BEGIN:VCALENDAR
VERSION:2.0
PRODID:-//Plone.org//NONSGML plone.app.event//EN
X-WR-TIMEZONE:Europe/Berlin
BEGIN:VEVENT
SUMMARY:ISPRA's Hydro-Meteo-Sea Forecasting System: operational implementa
 tions in the environmental field\, research applications and development l
 ines
DTSTART;TZID=GMT+0;VALUE=DATE-TIME:20220127T110000
DTEND;TZID=GMT+0;VALUE=DATE-TIME:20220127T120000
DTSTAMP;VALUE=DATE-TIME:20260423T061737Z
UID:3a2c2619e5b5458782806228a7fb25ee@www.isprambiente.gov.it
CREATED;VALUE=DATE-TIME:20220125T103111Z
DESCRIPTION:The Hydro-Meteo-Sea Forecasting System (SIMM)\, which became o
 perational at the beginning of 2000\, was designed with the aim of providi
 ng meteorological and meteo-marine forecasts in an area\, that of the Medi
 terranean\, characterized by the interaction of various phenomena on a ran
 ge of scales ranging from km to the synoptic scale.
LAST-MODIFIED;VALUE=DATE-TIME:20230112T110350Z
LOCATION:Webinar
URL:https://www.isprambiente.gov.it/en/archive/news-and-other-events/ispra
 -news/2022/01/ispras-hydro-meteo-sea-forecasting-system-operational-implem
 entations
END:VEVENT
END:VCALENDAR
