BEGIN:VCALENDAR
VERSION:2.0
PRODID:-//Plone.org//NONSGML plone.app.event//EN
X-WR-TIMEZONE:Europe/Berlin
BEGIN:VEVENT
SUMMARY:World Wetlands day
DTSTART;VALUE=DATE:20220202
DTEND;VALUE=DATE:20220203
DTSTAMP;VALUE=DATE-TIME:20260423T061910Z
UID:44bacebf85674fa9b500cba9d7cbad13@www.isprambiente.gov.it
CATEGORIES:evidence
CREATED;VALUE=DATE-TIME:20220126T085859Z
DESCRIPTION:On February 2\,  World Wetlands Day  to increase awareness on 
 the important role that these areas have for the people and the Plante. Th
 e wetland\, such as lagoons\, are between the environment most productive\
 , with an high level of biological diversity.   Also this year the  LIFE L
 agoon Refresh  project continues its restoration actions in an area of ​
 ​the northern lagoon of Venice to re-establish the saline gradient and i
 mprove the quality and conservation status of the lagoon habitats and the 
 species that live there.   The project Life Lagoon Refresh - Coastal lagoo
 n habitat (1150*) and species recovery by restoring the salt gradient incr
 easing fresh water input started in September 2017 and will end in 5 years
 .   To date\, the project is moving towards an end\, the concrete actions 
 are completed\, while the reed bed transplantation and monitoring activiti
 es are still in progress. The monitoring results show a change in the proj
 ect area: the saline gradient\, the key objective of the project\, has bee
 n restored\; flora and fauna are responding to the change in salinity. ISP
 RA and the University of Venice continue to collect data to verify if the 
 objectives of the project have been achieved.    
LAST-MODIFIED;VALUE=DATE-TIME:20230112T110350Z
URL:https://www.isprambiente.gov.it/en/archive/news-and-other-events/ispra
 -news/2022/01/world-wetlands-day
END:VEVENT
END:VCALENDAR
