BEGIN:VCALENDAR
VERSION:2.0
PRODID:-//Plone.org//NONSGML plone.app.event//EN
X-WR-TIMEZONE:Europe/Berlin
BEGIN:VEVENT
SUMMARY:Plastic Busters MPAs - Info Day
DTSTART;VALUE=DATE:20220421
DTEND;VALUE=DATE:20220422
DTSTAMP;VALUE=DATE-TIME:20260425T142252Z
UID:16c84313097041069e321353792d9d2a@www.isprambiente.gov.it
CREATED;VALUE=DATE-TIME:20220405T104631Z
DESCRIPTION:Plastic Busters MPAs  is an Interreg Med funded project aimin
 g to maintain biodiversity and preserve natural ecosystems in pelagic and 
 coastal marine protected areas by consolidating Mediterranean efforts agai
 nst marine litter.
LAST-MODIFIED;VALUE=DATE-TIME:20230112T112150Z
LOCATION:Rome\, Centro Congressi Cavour
URL:https://www.isprambiente.gov.it/en/archive/news-and-other-events/ispra
 -news/2022/04/plastic-busters-mpas-info-day
END:VEVENT
END:VCALENDAR
