BEGIN:VCALENDAR
VERSION:2.0
PRODID:-//Plone.org//NONSGML plone.app.event//EN
X-WR-TIMEZONE:Europe/Berlin
BEGIN:VEVENT
SUMMARY:Multi-elementary analysis in environmental matrices
DTSTART;TZID=GMT+0;VALUE=DATE-TIME:20220518T103000
DTEND;TZID=GMT+0;VALUE=DATE-TIME:20220518T120000
DTSTAMP;VALUE=DATE-TIME:20260423T230512Z
UID:6e7948bc76be4716a7a692de085e8b75@www.isprambiente.gov.it
CREATED;VALUE=DATE-TIME:20220502T135035Z
DESCRIPTION:Elementar Italia s.r.l.\, as part of the in-depth study on mul
 ti-elemental analysis techniques and on the characterization of organic ma
 tter in complex environments\, organizes on May 18 the webinar "From sedim
 ents to suspended particulates: multi-elementary analysis as a routine and
  driver of new applications in the characterization of organic matter in c
 omplex environments ".
LAST-MODIFIED;VALUE=DATE-TIME:20230112T114120Z
LOCATION:Webinar
URL:https://www.isprambiente.gov.it/en/archive/news-and-other-events/ispra
 -news/2022/05/multi-elementary-analysis
END:VEVENT
END:VCALENDAR
