BEGIN:VCALENDAR
VERSION:2.0
PRODID:-//Plone.org//NONSGML plone.app.event//EN
X-WR-TIMEZONE:Europe/Berlin
BEGIN:VEVENT
SUMMARY:Seminar for the 30th anniversary of the Natura 2000 Network and th
 e LIFE Program
DTSTART;TZID=GMT+0;VALUE=DATE-TIME:20220509T113000
DTEND;TZID=GMT+0;VALUE=DATE-TIME:20220509T130000
DTSTAMP;VALUE=DATE-TIME:20260423T062502Z
UID:29786f12189f4c3598d121d316d210c3@www.isprambiente.gov.it
CREATED;VALUE=DATE-TIME:20220505T090455Z
DESCRIPTION:2022 is a special year as we are celebrating the 30th annivers
 ary of both the European Natura 2000 Network and the LIFE programme\, born
  on the same day\, the 21st of May 1992.
LAST-MODIFIED;VALUE=DATE-TIME:20230112T114123Z
LOCATION:Chioggia
URL:https://www.isprambiente.gov.it/en/archive/news-and-other-events/ispra
 -news/2022/05/seminar-for-the-30th-anniversary-of-the-natura-2000-network-
 and-the-life-program
END:VEVENT
END:VCALENDAR
