BEGIN:VCALENDAR
VERSION:2.0
PRODID:-//Plone.org//NONSGML plone.app.event//EN
X-WR-TIMEZONE:Europe/Berlin
BEGIN:VEVENT
SUMMARY:Sustainable aquaculture as the engine of the blue economy
DTSTART;TZID=GMT+0;VALUE=DATE-TIME:20220510T100000
DTEND;TZID=GMT+0;VALUE=DATE-TIME:20220510T130000
DTSTAMP;VALUE=DATE-TIME:20260423T231040Z
UID:2e0bfbc4a964485e9e4cbd610a9fa5e3@www.isprambiente.gov.it
CREATED;VALUE=DATE-TIME:20220505T084547Z
DESCRIPTION:The workshop\, organized by the Liguria Region\, will be an op
 portunity to discuss the Community lines for aquaculture in Europe and the
  new perspectives in Italy. The day will also present a round table dedica
 ted to the experiences gained in the field by companies that are attentive
  to sustainability.
LAST-MODIFIED;VALUE=DATE-TIME:20230112T114122Z
LOCATION:Genova
URL:https://www.isprambiente.gov.it/en/archive/news-and-other-events/ispra
 -news/2022/05/sustainable-aquaculture-as-the-engine-of-the-blue-economy
END:VEVENT
END:VCALENDAR
