BEGIN:VCALENDAR
VERSION:2.0
PRODID:-//Plone.org//NONSGML plone.app.event//EN
X-WR-TIMEZONE:Europe/Berlin
BEGIN:VEVENT
SUMMARY:Marine Protected Areas: strategies and governance\, towards the ec
 ological transition
DTSTART;TZID=GMT+0;VALUE=DATE-TIME:20220622T100000
DTEND;TZID=GMT+0;VALUE=DATE-TIME:20220622T163000
DTSTAMP;VALUE=DATE-TIME:20260420T130337Z
UID:4bf576a420fa4beb89fec8193d7ced7c@www.isprambiente.gov.it
CREATED;VALUE=DATE-TIME:20220620T084003Z
DESCRIPTION:The day aims to develop a focus on the perspectives of Marine 
 Protected Areas also in light of the ambitious European objectives that ai
 m to have 30% of the marine surface protected by 2030.
LAST-MODIFIED;VALUE=DATE-TIME:20230112T114525Z
LOCATION:Brindisi/Streaming ive
URL:https://www.isprambiente.gov.it/en/archive/news-and-other-events/ispra
 -news/2022/06/marine-protected-areas-strategies-and-governance-towards-the
 -ecological-transition
END:VEVENT
END:VCALENDAR
