BEGIN:VCALENDAR
VERSION:2.0
PRODID:-//Plone.org//NONSGML plone.app.event//EN
X-WR-TIMEZONE:Europe/Berlin
BEGIN:VEVENT
SUMMARY:The sustainability of the smaller islands and tourism in the Itali
 an coastal areas
DTSTART;VALUE=DATE:20220623
DTEND;VALUE=DATE:20220625
DTSTAMP;VALUE=DATE-TIME:20260424T231525Z
UID:cc13cf77c754440bada6d93f4a247421@www.isprambiente.gov.it
CREATED;VALUE=DATE-TIME:20220620T083519Z
DESCRIPTION:Renewable sources\, energy efficiency\, water purification\, r
 ecovery and recycling of materials: the smaller islands could be the place
  of sustainability\, territories at the forefront of managing the challeng
 es of global warming. Capri will be the protagonist of two days with inter
 national guests on the occasion of a conference promoted by Legambiente an
 d CNR-IIA\, with Terna as sponsor and the patronage of the Municipality of
  Capri and Anacapri\, on a highly topical issue such as that of the sustai
 nability of the smaller islands and tourism in the Italian coastal areas
LAST-MODIFIED;VALUE=DATE-TIME:20230112T114525Z
LOCATION:Capri/streaming live
URL:https://www.isprambiente.gov.it/en/archive/news-and-other-events/ispra
 -news/2022/06/the-sustainability-of-the-smaller-islands-and-tourism-in-the
 -italian-coastal-areas
END:VEVENT
END:VCALENDAR
