BEGIN:VCALENDAR
VERSION:2.0
PRODID:-//Plone.org//NONSGML plone.app.event//EN
X-WR-TIMEZONE:Europe/Berlin
BEGIN:VEVENT
SUMMARY:Restoration\, regeneration and recovery of the Country
DTSTART;TZID=GMT+0;VALUE=DATE-TIME:20220909T150000
DTEND;TZID=GMT+0;VALUE=DATE-TIME:20220909T170000
DTSTAMP;VALUE=DATE-TIME:20260425T215754Z
UID:38179aec3e3746bbb06cd4f51ea287ae@www.isprambiente.gov.it
CREATED;VALUE=DATE-TIME:20220831T171204Z
DESCRIPTION:Reflections and comparison on opportunities\, innovations\, ex
 periences\, skills\, public-private relationship From 8 to 10 September wi
 ll held on the Polvese Island an event dedicated to sustainability through
  meetings\, paths\, projects\, workshops\, music\, books\, theater and muc
 h more. The event "Restoration\, Regeneration\, Recovery of the Country. R
 eflections and discussion on Opportunities\, Innovations\, Experiences\, S
 kills\, Public-Private Relations" organized with the collaboration and pre
 sence of RemTech Expo is on the agenda on 9 September at 3.00 pm.
LAST-MODIFIED;VALUE=DATE-TIME:20230112T115121Z
LOCATION:Isola Polvese-Castiglione del Lago (PG)
URL:https://www.isprambiente.gov.it/en/archive/news-and-other-events/ispra
 -news/2022/08/restoration-regeneration-and-recovery-of-the-country
END:VEVENT
END:VCALENDAR
