BEGIN:VCALENDAR
VERSION:2.0
PRODID:-//Plone.org//NONSGML plone.app.event//EN
X-WR-TIMEZONE:Europe/Berlin
BEGIN:VEVENT
SUMMARY:Monitoring and biodiversity in the city. Let's explore the Natura 
 2000 network in Villa Borghese with Citizen Science Trekking and cycle tou
 r - 19 November 2022
DTSTART;TZID=GMT+0;VALUE=DATE-TIME:20221119T100000
DTEND;TZID=GMT+0;VALUE=DATE-TIME:20221119T123000
DTSTAMP;VALUE=DATE-TIME:20260420T061651Z
UID:d7bdddd241d84d1d9efb4f2d6fed4ea9@www.isprambiente.gov.it
CREATED;VALUE=DATE-TIME:20220923T103409Z
DESCRIPTION:ISPRA's  National Biodiversity Network  is a partner of the  2
 022 Urban Nature  edition\, the initiative promoted by the WWF that intend
 s to involve the best existing energies at national and local level commit
 ted to promoting and managing urban biodiversity. Several events scheduled
  from 8 to 9 October 2022 organized in various Italian cities by the partn
 ers participating in the initiative - the " Friends of Urban Nature " - in
 cluding ISPRA.
LAST-MODIFIED;VALUE=DATE-TIME:20230112T115830Z
LOCATION:Rome\, Fontana del Mosè salvato dalle acque\, Villa Borghese
URL:https://www.isprambiente.gov.it/en/archive/news-and-other-events/ispra
 -news/2022/09/monitoring-and-biodiversity-in-the-city-lets-explore-the-nat
 ura-2000-network-in-villa-borghese
END:VEVENT
END:VCALENDAR
