BEGIN:VCALENDAR
VERSION:2.0
PRODID:-//Plone.org//NONSGML plone.app.event//EN
X-WR-TIMEZONE:Europe/Berlin
BEGIN:VEVENT
SUMMARY:Value Nature. The role of Protected Areas for the protection and e
 nhancement of Italy
DTSTART;TZID=Europe/Berlin;VALUE=DATE-TIME:20230112T091500
DTEND;TZID=Europe/Berlin;VALUE=DATE-TIME:20230112T173000
DTSTAMP;VALUE=DATE-TIME:20260423T035952Z
UID:47d04616cc1945a481858140eb632795@www.isprambiente.gov.it
CREATED;VALUE=DATE-TIME:20230109T095005Z
DESCRIPTION:Marevivo and WWF Italia are organizing the conference on the r
 ole of Protected Areas for the protection and enhancement of Italy on 12 J
 anuary. The title of the meeting is in itself significant: our system of 
 Marine Protected Areas and the Natura 2000 network at sea\, fragmented and
  undervalued\, is oppressed by management problems that have not been reso
 lved for too long. The ISPRA president\, Stefano Laporta will participate 
 in the session dedicated to Marine Protected Areas.    Program     Live st
 reaming
LAST-MODIFIED;VALUE=DATE-TIME:20240118T104331Z
LOCATION:Rome/Streaming live
URL:https://www.isprambiente.gov.it/en/archive/news-and-other-events/ispra
 -news/2023/01/value-nature-the-role-of-protected-areas-for-the-protection-
 and-enhancement-of-italy
END:VEVENT
BEGIN:VTIMEZONE
TZID:Europe/Berlin
X-LIC-LOCATION:Europe/Berlin
BEGIN:STANDARD
DTSTART;VALUE=DATE-TIME:20221030T020000
TZNAME:CET
TZOFFSETFROM:+0200
TZOFFSETTO:+0100
END:STANDARD
END:VTIMEZONE
END:VCALENDAR
