BEGIN:VCALENDAR
VERSION:2.0
PRODID:-//Plone.org//NONSGML plone.app.event//EN
X-WR-TIMEZONE:Europe/Berlin
BEGIN:VEVENT
SUMMARY:UN 2023 Water Conference
DTSTART;VALUE=DATE:20230322
DTEND;VALUE=DATE:20230325
DTSTAMP;VALUE=DATE-TIME:20260423T061958Z
UID:7c0faf081ac04686a91a8b7be4c0c656@www.isprambiente.gov.it
CREATED;VALUE=DATE-TIME:20230322T174649Z
DESCRIPTION:The second  UN Conference on Wate r kicks off today in New Yor
 k\, co-organized by the Netherlands and Tajikistan with the United Nations
 . During the opening ceremony\, UN Secretary General Guterres reiterated t
 he risk to resources and ecosystems due to water scarcity. ISPRA is partic
 ipating with the Italian delegation in the interactive dialogues on the th
 eme of integration between States for the protection of water and ecosyste
 ms and for the mitigation of flood and drought risk in a constantly changi
 ng and evolving climate.
LAST-MODIFIED;VALUE=DATE-TIME:20240118T104927Z
URL:https://www.isprambiente.gov.it/en/archive/news-and-other-events/ispra
 -news/2023/03/un-2023-water-conference
END:VEVENT
END:VCALENDAR
