BEGIN:VCALENDAR
VERSION:2.0
PRODID:-//Plone.org//NONSGML plone.app.event//EN
X-WR-TIMEZONE:Europe/Berlin
BEGIN:VEVENT
SUMMARY:Water and Climate. Climate change: drought and hydrogeological ins
 tability
DTSTART;TZID=Europe/Berlin;VALUE=DATE-TIME:20230414T091500
DTEND;TZID=Europe/Berlin;VALUE=DATE-TIME:20230414T113000
DTSTAMP;VALUE=DATE-TIME:20260423T062951Z
UID:278abae446984d7391a74efbbdfc6963@www.isprambiente.gov.it
CREATED;VALUE=DATE-TIME:20230327T083928Z
DESCRIPTION:Organized by Uniacque\, the new edition of  WaterWeek  (13-16 
 April) dedicated to the most precious of the planet's resources. The week 
 dedicated to water was born with a twofold objective. On the one hand\, to
  facilitate the debate between technicians\, national players\, companies 
 in the water sector and administrators on the role of water. On the other\
 , to bring citizens ever closer to the culture of water and its intelligen
 t use\, to be conserved with great care.
LAST-MODIFIED;VALUE=DATE-TIME:20240118T104941Z
LOCATION:Bergamo
URL:https://www.isprambiente.gov.it/en/archive/news-and-other-events/ispra
 -news/2023/03/water-and-climate-climate-change-drought-and-hydrogeological
 -instability
END:VEVENT
BEGIN:VTIMEZONE
TZID:Europe/Berlin
X-LIC-LOCATION:Europe/Berlin
BEGIN:DAYLIGHT
DTSTART;VALUE=DATE-TIME:20230326T030000
TZNAME:CEST
TZOFFSETFROM:+0100
TZOFFSETTO:+0200
END:DAYLIGHT
END:VTIMEZONE
END:VCALENDAR
