BEGIN:VCALENDAR
VERSION:2.0
PRODID:-//Plone.org//NONSGML plone.app.event//EN
X-WR-TIMEZONE:Europe/Berlin
BEGIN:VEVENT
SUMMARY:World Water Day 2023
DTSTART;VALUE=DATE:20230322
DTEND;VALUE=DATE:20230323
DTSTAMP;VALUE=DATE-TIME:20260419T224818Z
UID:cb287265cc0d4e9ca32cee80cfbb62e3@www.isprambiente.gov.it
CREATED;VALUE=DATE-TIME:20230316T093904Z
DESCRIPTION:World Water Day 2023  will focus on accelerating change to sol
 ve the water and sanitation crisis. Issues across the water cycle undermin
 e progress on every major global issue\, from health to hunger\, gender eq
 uality to jobs\, education to industry\, disasters to peace.   In 2015\, t
 he world committed to achieving the 2030 Agenda's Sustainable Development 
 Goal (SDG) 6 – the pledge that everyone will have safe water and sanitat
 ion management by 2030. Currently\, this goal will be hardly accomplished.
    The celebration of this World Water Day coincides with the start of the
   UN Water Conference 2023  (March 22-24\, New York)\, the event is a uniq
 ue opportunity to unite the world in order to solve the water crisis and s
 anitation\, in the Italian delegation to the Conference there will also b
 e a researcher from ISPRA.   In the  side event  organized by FAO\, the wo
 rk on the "Italy" pilot case and the disaggregation of the SDG 6.4.2 indic
 ator (Level of water stress: freshwater withdrawal as a percentage of avai
 lable freshwater resources) at district scale will be presented hydrograph
 ic\, work conducted by ISPRA in the context of a specific agreement with F
 AO\, and with the support of Istat   On 23 March ISPRA is organizing the c
 onference " The silent revolution of water "\, promoted as part of the  WH
 OW  project (Water Health Open knowledge)\, whose objective is the creatio
 n of a distributed European infrastructure capable of connecting environme
 ntal and health data.
LAST-MODIFIED;VALUE=DATE-TIME:20240118T104927Z
URL:https://www.isprambiente.gov.it/en/archive/news-and-other-events/ispra
 -news/2023/03/world-water-day-2023
END:VEVENT
END:VCALENDAR
