BEGIN:VCALENDAR
VERSION:2.0
PRODID:-//Plone.org//NONSGML plone.app.event//EN
X-WR-TIMEZONE:Europe/Berlin
BEGIN:VEVENT
SUMMARY:Tor Caldara: an itinerary through geology\, environment and histor
 y
DTSTART;TZID=Europe/Berlin;VALUE=DATE-TIME:20230422T103000
DTSTAMP;VALUE=DATE-TIME:20260422T215550Z
UID:8d5e3ff33c5d41b59670409cc3e2d704@www.isprambiente.gov.it
CREATED;VALUE=DATE-TIME:20230411T082224Z
DESCRIPTION:Geological walks with ISPRA The Tor Caldara Nature Reserve is 
 located south of Rome\, between Anzio and Lavinio\, and represents a geolo
 gical-environmental "diamond" of unique value. The area is a rare testimon
 y of the ancient coastal forests along the coast of southern Lazio and unt
 il recently it was exploited for the mining of sulfur\, the presence of wh
 ich is linked to the secondary activity of the Lazio volcanic district.   
  The excursion will lead visitors to discover the geological and environme
 ntal characteristics of the Reserve\, which is particularly suitable for e
 ducational purposes due to the spectacular secondary volcanic phenomena st
 ill active and the naturalistic importance of the habitats present
LAST-MODIFIED;VALUE=DATE-TIME:20260120T102448Z
LOCATION:Ingresso della Riserva Naturale Regionale di Tor Caldara\, Litora
 nea Ostia Anzio (SP 601) km 34\,400\, 00042 Anzio (RM)
URL:https://www.isprambiente.gov.it/en/archive/news-and-other-events/ispra
 -news/2023/04/tor-caldara-an-itinerary-through-geology-environment-and-his
 tory
END:VEVENT
BEGIN:VTIMEZONE
TZID:Europe/Berlin
X-LIC-LOCATION:Europe/Berlin
BEGIN:DAYLIGHT
DTSTART;VALUE=DATE-TIME:20230326T030000
TZNAME:CEST
TZOFFSETFROM:+0100
TZOFFSETTO:+0200
END:DAYLIGHT
END:VTIMEZONE
END:VCALENDAR
