BEGIN:VCALENDAR
VERSION:2.0
PRODID:-//Plone.org//NONSGML plone.app.event//EN
X-WR-TIMEZONE:Europe/Berlin
BEGIN:VEVENT
SUMMARY:Bears\, wolves and wild boars: on the border of coexistence
DTSTART;TZID=Europe/Berlin;VALUE=DATE-TIME:20230520T143000
DTEND;TZID=Europe/Berlin;VALUE=DATE-TIME:20230520T153000
DTSTAMP;VALUE=DATE-TIME:20260423T152325Z
UID:0324bd208178486c9d15429234073b19@www.isprambiente.gov.it
CREATED;VALUE=DATE-TIME:20230516T080938Z
DESCRIPTION:From 19 to 21 may it will be held the  Food&Science Festival 
 \, an event of scientific dissemination of national and international imp
 ortance that deals with and explores issues related to the science of food
  production and consumption in a creative and accessible way. On 20 May\, 
 an ISPRA researcher will participate in the meeting "Bears\, wolves and wi
 ld boars: on the border of coexistence".
LAST-MODIFIED;VALUE=DATE-TIME:20240125T081313Z
LOCATION:Mantova
URL:https://www.isprambiente.gov.it/en/archive/news-and-other-events/ispra
 -news/2023/05/bears-wolves-and-wild-boars-on-the-border-of-coexistence
END:VEVENT
BEGIN:VTIMEZONE
TZID:Europe/Berlin
X-LIC-LOCATION:Europe/Berlin
BEGIN:DAYLIGHT
DTSTART;VALUE=DATE-TIME:20230326T030000
TZNAME:CEST
TZOFFSETFROM:+0100
TZOFFSETTO:+0200
END:DAYLIGHT
END:VTIMEZONE
END:VCALENDAR
