BEGIN:VCALENDAR
VERSION:2.0
PRODID:-//Plone.org//NONSGML plone.app.event//EN
X-WR-TIMEZONE:Europe/Berlin
BEGIN:VEVENT
SUMMARY:Dredging and discharge of sediments from the port of Casamicciola 
 into the sea
DTSTART;VALUE=DATE:20230601
DTEND;VALUE=DATE:20230602
DTSTAMP;VALUE=DATE-TIME:20260421T175734Z
UID:a6754e9944cc42f1a3896b9dc3326d2d@www.isprambiente.gov.it
CREATED;VALUE=DATE-TIME:20230531T094226Z
DESCRIPTION:ISPRA researchers will participate tomorrow in the dredging of
  the Port of Casamicciola Terme\, which was partially closed to boats foll
 owing the landslide of 26 November. The project aims to restore the seabed
  in the body of water in front of the landing place of the municipality of
  Ischia overwhelmed by the landslide.   ISPRA together with ARPA Campania\
 , the Maria Protetta area\, the Anton Dohrn Zoological Station and the Por
 t Authority are part of the technical table that deals with the restoratio
 n of the seabed.
LAST-MODIFIED;VALUE=DATE-TIME:20240125T081346Z
LOCATION:Ischia
URL:https://www.isprambiente.gov.it/en/archive/news-and-other-events/ispra
 -news/2023/05/dredging-and-discharge-of-sediments-from-the-port-of-casamic
 ciola-into-the-sea
END:VEVENT
END:VCALENDAR
