BEGIN:VCALENDAR
VERSION:2.0
PRODID:-//Plone.org//NONSGML plone.app.event//EN
X-WR-TIMEZONE:Europe/Berlin
BEGIN:VEVENT
SUMMARY:Sediment management in artificial reservoirs in a circular economy
  context
DTSTART;TZID=Europe/Berlin;VALUE=DATE-TIME:20230530T093000
DTEND;TZID=Europe/Berlin;VALUE=DATE-TIME:20230530T163000
DTSTAMP;VALUE=DATE-TIME:20260423T062345Z
UID:e09d2160c27e4f4fa38db748670b6741@www.isprambiente.gov.it
CREATED;VALUE=DATE-TIME:20230523T122717Z
DESCRIPTION:Possibilities for the reuse of sediments will be discussed and
  case histories of intervention will be presented. The event will end with
  a round table that will compare the points of view of: institutions\, man
 agers and the productive world
LAST-MODIFIED;VALUE=DATE-TIME:20240125T081410Z
LOCATION:Rome/Online
URL:https://www.isprambiente.gov.it/en/archive/news-and-other-events/ispra
 -news/2023/05/sediment-management-in-artificial-reservoirs-in-a-circular-e
 conomy-context
END:VEVENT
BEGIN:VTIMEZONE
TZID:Europe/Berlin
X-LIC-LOCATION:Europe/Berlin
BEGIN:DAYLIGHT
DTSTART;VALUE=DATE-TIME:20230326T030000
TZNAME:CEST
TZOFFSETFROM:+0100
TZOFFSETTO:+0200
END:DAYLIGHT
END:VTIMEZONE
END:VCALENDAR
