BEGIN:VCALENDAR
VERSION:2.0
PRODID:-//Plone.org//NONSGML plone.app.event//EN
X-WR-TIMEZONE:Europe/Berlin
BEGIN:VEVENT
SUMMARY:The social relationship\, balance of values ​​and spending cap
 acity as a measure of performance in territorial rehabilitation activities
DTSTART;TZID=Europe/Berlin;VALUE=DATE-TIME:20230606T150000
DTEND;TZID=Europe/Berlin;VALUE=DATE-TIME:20230606T180000
DTSTAMP;VALUE=DATE-TIME:20260421T211415Z
UID:ab23d3b77dee49388d8ccdc32508f7f6@www.isprambiente.gov.it
CREATED;VALUE=DATE-TIME:20230517T101447Z
DESCRIPTION:The first Social Report of the mission of the Commissioner for
  the implementation of the interventions necessary to adapt the illegal la
 ndfills present on the national territory to the current legislation highl
 ights the favorable impacts on the territory of the clean-up actions set i
 n motion since 2017\, the year of assignment to the Arma dei Carabinieri f
 or this mission and the appointment of the Commissioner. Making citizens a
 ccountable for the work carried out to be transparent and not to appear\, 
 but to show the actions carried out and the results achieved in terms of s
 ustainability ensured for the country\, this is a non-secondary objective 
 of the mission.
LAST-MODIFIED;VALUE=DATE-TIME:20240125T081313Z
LOCATION:Rome\, Chamber of deputy
URL:https://www.isprambiente.gov.it/en/archive/news-and-other-events/ispra
 -news/2023/05/the-social-relationship-balance-of-values-200b200band-spendi
 ng-capacity
END:VEVENT
BEGIN:VTIMEZONE
TZID:Europe/Berlin
X-LIC-LOCATION:Europe/Berlin
BEGIN:DAYLIGHT
DTSTART;VALUE=DATE-TIME:20230326T030000
TZNAME:CEST
TZOFFSETFROM:+0100
TZOFFSETTO:+0200
END:DAYLIGHT
END:VTIMEZONE
END:VCALENDAR
