BEGIN:VCALENDAR
VERSION:2.0
PRODID:-//Plone.org//NONSGML plone.app.event//EN
X-WR-TIMEZONE:Europe/Berlin
BEGIN:VEVENT
SUMMARY:Urban forestation and Nature based solutions for the sustainable f
 uture of cities
DTSTART;TZID=Europe/Berlin;VALUE=DATE-TIME:20230517T101500
DTEND;TZID=Europe/Berlin;VALUE=DATE-TIME:20230517T140000
DTSTAMP;VALUE=DATE-TIME:20260423T234317Z
UID:ccb91bdc18044c22b1c1209abdd036ec@www.isprambiente.gov.it
CREATED;VALUE=DATE-TIME:20230502T084434Z
DESCRIPTION:The European Green Deal\, the Next Generation Eu and the Europ
 ean Strategy for Biodiversity place the return of nature in our lives and\
 , in particular\, in cities\, at the center of restoration ecology. The Na
 tional Recovery and Resilience Plan (Pnrr)\, on a proposal from the Minist
 ry of the Environment and Energy Security\, financed a measure dedicated t
 o urban forestry in the 14 metropolitan cities.
LAST-MODIFIED;VALUE=DATE-TIME:20240125T081300Z
LOCATION:Orto Botanico of Rome
URL:https://www.isprambiente.gov.it/en/archive/news-and-other-events/ispra
 -news/2023/05/urban-forestation-and-nature-based-solutions-for-the-sustain
 able-future-of-cities
END:VEVENT
BEGIN:VTIMEZONE
TZID:Europe/Berlin
X-LIC-LOCATION:Europe/Berlin
BEGIN:DAYLIGHT
DTSTART;VALUE=DATE-TIME:20230326T030000
TZNAME:CEST
TZOFFSETFROM:+0100
TZOFFSETTO:+0200
END:DAYLIGHT
END:VTIMEZONE
END:VCALENDAR
