BEGIN:VCALENDAR
VERSION:2.0
PRODID:-//Plone.org//NONSGML plone.app.event//EN
X-WR-TIMEZONE:Europe/Berlin
BEGIN:VEVENT
SUMMARY:Water\, a common front against the climate crisis
DTSTART;VALUE=DATE:20230714
DTEND;VALUE=DATE:20230716
DTSTAMP;VALUE=DATE-TIME:20260423T092425Z
UID:84c06c37b68f463a8b1c91f6f88e1851@www.isprambiente.gov.it
CREATED;VALUE=DATE-TIME:20230510T121139Z
DESCRIPTION:In Parma on 14 and 15 July 2023 two days of study and discussi
 on on the water resource and its delicate environmental\, economic and soc
 ial balance.   The centrality that the water resource is increasingly assu
 ming in the environmental\, economic and social balances requires a reflec
 tion on the part of the institutions and stakeholders on the sustainable m
 anagement of the water resource. May's flood events in Emilia-Romagna teac
 h us.   For these reasons\, the Po River Basin District Authority has deci
 ded to organize\, with the support of the Globe Italia National Climate As
 sociation\, two study days on the subject\, to formulate a series of concr
 ete proposals\, based on solid scientific foundations.
LAST-MODIFIED;VALUE=DATE-TIME:20240125T081300Z
LOCATION:Parma
URL:https://www.isprambiente.gov.it/en/archive/news-and-other-events/ispra
 -news/2023/05/water-a-common-front-against-the-climate-crisis
END:VEVENT
END:VCALENDAR
