BEGIN:VCALENDAR
VERSION:2.0
PRODID:-//Plone.org//NONSGML plone.app.event//EN
X-WR-TIMEZONE:Europe/Berlin
BEGIN:VEVENT
SUMMARY:The President of ISPRA and SNPA is the new Vice President of the M
 anagement Board of the European Environment Agency
DTSTART;VALUE=DATE:20230608
DTEND;VALUE=DATE:20230609
DTSTAMP;VALUE=DATE-TIME:20260424T130754Z
UID:210045cadcd34217a26072340c73e337@www.isprambiente.gov.it
CREATED;VALUE=DATE-TIME:20230609T074926Z
DESCRIPTION:The 99th meeting of the Management Board of the European Envir
 onment Agency was held today. Among the items on the agenda\, the election
  of the new vice president: the President of ISPRA and SNPA\, Stefano Lapo
 rta\, was elected with 26 votes out of 29\, confirming Italy as vice presi
 dent of the management board. “Honoured by this appointment\, I thank th
 e Minister of the Environment\, Gilberto Pichetto Fratin for his support a
 nd Alessandro Bratti for the work done and my colleagues for their trust. 
 Also in this capacity I will continue my commitment to strengthen the coun
 try's position in the community context and to accelerate the pace on the 
 path towards sustainability" - declared President Laporta.
LAST-MODIFIED;VALUE=DATE-TIME:20240125T081610Z
URL:https://www.isprambiente.gov.it/en/archive/news-and-other-events/ispra
 -news/2023/06/the-president-of-ispra-and-snpa-is-the-new-vice-president-of
 -the-management-board-of-the-european-environment-agency
END:VEVENT
END:VCALENDAR
