BEGIN:VCALENDAR
VERSION:2.0
PRODID:-//Plone.org//NONSGML plone.app.event//EN
X-WR-TIMEZONE:Europe/Berlin
BEGIN:VEVENT
SUMMARY:Significant increase of waste from economic activities after the p
 andemic: +12.2%
DTSTART;VALUE=DATE:20230718
DTEND;VALUE=DATE:20230719
DTSTAMP;VALUE=DATE-TIME:20260421T231210Z
UID:f359b9ed863241d8a9878acc0629016c@www.isprambiente.gov.it
CREATED;VALUE=DATE-TIME:20230714T111654Z
DESCRIPTION:ISPRA publishes the Special Waste from economic activities 202
 3 Edition   After the stop of economic activities due to the pandemic cris
 is\, in 2021 there was significant growth in the production of waste from 
 economic activities\, which reached 165 million tonnes. The 12.2% increase
  corresponds to about 18 million tons. The recovery in the industrial\, cr
 aft and service sectors marks an increase in waste generated by production
  activities.   Almost half (47.7%) comes from construction and demolition 
 activities (78.7 million tons)\, a sector which is confirmed as the main o
 ne in the total production of waste from economic activities. The percenta
 ge of recycling (80.1%) is significant for this type of waste\, largely ex
 ceeding the target of 70% set by the legislation for 2020.
LAST-MODIFIED;VALUE=DATE-TIME:20240125T081923Z
URL:https://www.isprambiente.gov.it/en/archive/news-and-other-events/ispra
 -news/2023/07/significant-increase-waste-after-the-pandemic
END:VEVENT
END:VCALENDAR
