BEGIN:VCALENDAR
VERSION:2.0
PRODID:-//Plone.org//NONSGML plone.app.event//EN
X-WR-TIMEZONE:Europe/Berlin
BEGIN:VEVENT
SUMMARY:EUROBOAR meeting
DTSTART;VALUE=DATE:20230904
DTEND;VALUE=DATE:20230908
DTSTAMP;VALUE=DATE-TIME:20260420T120303Z
UID:be3d25f70a7b40b68459a24771fd6c34@www.isprambiente.gov.it
CREATED;VALUE=DATE-TIME:20230821T181342Z
DESCRIPTION:From 5 to 7 September\, at the Presidential Estate of Castelpo
 rziano\, there will be a meeting of over 30 researchers and technicians fr
 om various European countries and North America who are involved in the EU
 ROBOAR project.  EUROBOAR  is a project based on the sharing of data colle
 cted during wild boar (Sus scrofa) monitoring campaigns\, in order to deep
 en knowledge on ecology across environmental gradients and understand how 
 the species responds to specific conditions\, such as climate and environm
 ental changes o the impacts of human activities.
LAST-MODIFIED;VALUE=DATE-TIME:20240125T082058Z
LOCATION:Tenuta Presidenziale di Castelporziano
URL:https://www.isprambiente.gov.it/en/archive/news-and-other-events/ispra
 -news/2023/08/euroboar-meeting
END:VEVENT
END:VCALENDAR
