BEGIN:VCALENDAR
VERSION:2.0
PRODID:-//Plone.org//NONSGML plone.app.event//EN
X-WR-TIMEZONE:Europe/Berlin
BEGIN:VEVENT
SUMMARY:Golden Spike Ceremony for the CAMPANIAN GSSP
DTSTART;VALUE=DATE:20230726
DTEND;VALUE=DATE:20230727
DTSTAMP;VALUE=DATE-TIME:20260421T005324Z
UID:c7900e27bec848b598fbbae245a39a67@www.isprambiente.gov.it
CREATED;VALUE=DATE-TIME:20230802T125928Z
DESCRIPTION:The Golden Spike Ceremony of the CAMPANIAN GSSP (Golden Strato
 type Sections and Points) was held on Wednesday 26 July at the Gola del Bo
 ttaccione (Gubbio). The "Golden Spike" ("Golden Nail") represents the phys
 ical expression of the boundary between Santonian and Campanian\, dated 83
 .6 million years ago. This is a scientific recognition of international va
 lue\, which makes Bottaccione one of the 100 most important geosites in th
 e world.
LAST-MODIFIED;VALUE=DATE-TIME:20240125T082057Z
LOCATION:Gubbio
URL:https://www.isprambiente.gov.it/en/archive/news-and-other-events/ispra
 -news/2023/08/golden-spike-ceremony-for-the-campanian-gssp
END:VEVENT
END:VCALENDAR
