BEGIN:VCALENDAR
VERSION:2.0
PRODID:-//Plone.org//NONSGML plone.app.event//EN
X-WR-TIMEZONE:Europe/Berlin
BEGIN:VEVENT
SUMMARY:The ecological transition of water. Knowledge\, quality\, integrat
 ion
DTSTART;TZID=Europe/Berlin;VALUE=DATE-TIME:20231004T090000
DTEND;TZID=Europe/Berlin;VALUE=DATE-TIME:20231004T130000
DTSTAMP;VALUE=DATE-TIME:20260423T061910Z
UID:2ef21e8a7fc24c34a66efcad36ac1668@www.isprambiente.gov.it
CREATED;VALUE=DATE-TIME:20230926T132423Z
DESCRIPTION:To face the increasingly constant water crisis that Italy has 
 been experiencing for several years now\, we need a strategy for the ecolo
 gical transition of water\, which makes the water footprint increasingly s
 ustainable in all sectors and which puts water at center of adaptation to 
 the climate crisis. From drought to floods\, from the protection of ecosys
 tems to anthropic uses\, water management passes through a single vision t
 hat guarantees the achievement of global objectives.
LAST-MODIFIED;VALUE=DATE-TIME:20240125T082245Z
URL:https://www.isprambiente.gov.it/en/archive/news-and-other-events/ispra
 -news/2023/09/the-ecological-transition-of-water-knowledge-quality-integra
 tion
END:VEVENT
BEGIN:VTIMEZONE
TZID:Europe/Berlin
X-LIC-LOCATION:Europe/Berlin
BEGIN:DAYLIGHT
DTSTART;VALUE=DATE-TIME:20230326T030000
TZNAME:CEST
TZOFFSETFROM:+0100
TZOFFSETTO:+0200
END:DAYLIGHT
END:VTIMEZONE
END:VCALENDAR
