BEGIN:VCALENDAR
VERSION:2.0
PRODID:-//Plone.org//NONSGML plone.app.event//EN
X-WR-TIMEZONE:Europe/Berlin
BEGIN:VEVENT
SUMMARY:International Day for Disaster Risk Reduction
DTSTART;VALUE=DATE:20231013
DTEND;VALUE=DATE:20231014
DTSTAMP;VALUE=DATE-TIME:20260423T062136Z
UID:a060544f51564edb9f5265aa8a940a1b@www.isprambiente.gov.it
CREATED;VALUE=DATE-TIME:20231012T200142Z
DESCRIPTION:The International Day for Natural Disaster Risk Reduction\, kn
 own worldwide as the  International Day for Disaster Risk Reduction\,  is 
 celebrated on October 13. The day was created at the behest of the United 
 Nations General Assembly in 1989. The objective of establishing this day i
 s to send an important signal to the governments of all the countries of t
 he world as well as to international organizations and the global populati
 on\, to reflect on the ever greater frequency and consistency with which n
 atural disasters occur.
LAST-MODIFIED;VALUE=DATE-TIME:20240125T082456Z
URL:https://www.isprambiente.gov.it/en/archive/news-and-other-events/ispra
 -news/2023/10/international-day-for-disaster-risk-reduction
END:VEVENT
END:VCALENDAR
