BEGIN:VCALENDAR
VERSION:2.0
PRODID:-//Plone.org//NONSGML plone.app.event//EN
X-WR-TIMEZONE:Europe/Berlin
BEGIN:VEVENT
SUMMARY:The city tree
DTSTART;TZID=Europe/Berlin;VALUE=DATE-TIME:20231122T090000
DTEND;TZID=Europe/Berlin;VALUE=DATE-TIME:20231122T130000
DTSTAMP;VALUE=DATE-TIME:20260424T125345Z
UID:8a0fd9401cb04265b4b1797fd28c6a52@www.isprambiente.gov.it
CREATED;VALUE=DATE-TIME:20231027T092511Z
DESCRIPTION:National Tree Day is celebrated on 21 November\, established a
 s a national anniversary with a law of the Republic which came into force 
 in February 2013. The objective of this celebration is to enhance the impo
 rtance of the arboreal heritage and to remember the fundamental role playe
 d by woods and forests.
LAST-MODIFIED;VALUE=DATE-TIME:20240125T082511Z
LOCATION:Scampia (NA)
URL:https://www.isprambiente.gov.it/en/archive/news-and-other-events/ispra
 -news/2023/10/the-city-tree
END:VEVENT
BEGIN:VTIMEZONE
TZID:Europe/Berlin
X-LIC-LOCATION:Europe/Berlin
BEGIN:STANDARD
DTSTART;VALUE=DATE-TIME:20231029T020000
TZNAME:CET
TZOFFSETFROM:+0200
TZOFFSETTO:+0100
END:STANDARD
END:VTIMEZONE
END:VCALENDAR
