BEGIN:VCALENDAR
VERSION:2.0
PRODID:-//Plone.org//NONSGML plone.app.event//EN
X-WR-TIMEZONE:Europe/Berlin
BEGIN:VEVENT
SUMMARY:The transition towards sustainable and "circular" management of be
 ached seagrass and plastics in coastal and island territories
DTSTART;TZID=Europe/Berlin;VALUE=DATE-TIME:20231024T100000
DTEND;TZID=Europe/Berlin;VALUE=DATE-TIME:20231024T130000
DTSTAMP;VALUE=DATE-TIME:20260422T105529Z
UID:a3b05311ec2c4249b818d586b6b638af@www.isprambiente.gov.it
CREATED;VALUE=DATE-TIME:20231023T100544Z
DESCRIPTION:During the event\, the results of the  MED Dé.Co.U.Plages  pr
 oject will be presented\, of which ISPRA is a partner\, co-financed by the
  ENI Program of Territorial Cooperation Italy - Tunisia 2014-2020. The eve
 nt aims to illustrate and compare management methods and good practices\, 
 starting from the results achieved with the project\, tracing development 
 prospects in the Mediterranean and international context.
LAST-MODIFIED;VALUE=DATE-TIME:20240125T082511Z
LOCATION:Favignana and online
URL:https://www.isprambiente.gov.it/en/archive/news-and-other-events/ispra
 -news/2023/10/the-transition-towards-sustainable-and-circular-management-o
 f-beached-seagrass-and-plastics-in-coastal-and-island-territories
END:VEVENT
BEGIN:VTIMEZONE
TZID:Europe/Berlin
X-LIC-LOCATION:Europe/Berlin
BEGIN:DAYLIGHT
DTSTART;VALUE=DATE-TIME:20230326T030000
TZNAME:CEST
TZOFFSETFROM:+0100
TZOFFSETTO:+0200
END:DAYLIGHT
END:VTIMEZONE
END:VCALENDAR
