BEGIN:VCALENDAR
VERSION:2.0
PRODID:-//Plone.org//NONSGML plone.app.event//EN
X-WR-TIMEZONE:Europe/Berlin
BEGIN:VEVENT
SUMMARY:XII National Table of River Contracts
DTSTART;VALUE=DATE:20231218
DTEND;VALUE=DATE:20231220
DTSTAMP;VALUE=DATE-TIME:20260423T062201Z
UID:8ba40fd09b8e4e458aebff32249f1338@www.isprambiente.gov.it
CREATED;VALUE=DATE-TIME:20231213T100631Z
DESCRIPTION:On 18 and 19 December 2023\, in collaboration with the Campani
 a Region and with the patronage of WWAP UNESCO\, the Ministry of the Envir
 onment\, the Ministry of Agriculture and ISPRA\, with the organizational c
 ontribution of Alta Scuola\, Coordinamento A21 Locali\, INU and ANCI\, it 
 will be held in Naples the XII National Table of River Contracts with the 
 aim of analyzing river contracts in Italy and making operational proposals
  for the future.
LAST-MODIFIED;VALUE=DATE-TIME:20240125T082832Z
LOCATION:Naples\, Università degli Studi di Napoli Federico II
URL:https://www.isprambiente.gov.it/en/archive/news-and-other-events/ispra
 -news/2023/12/xii-national-table-of-river-contracts
END:VEVENT
END:VCALENDAR
