BEGIN:VCALENDAR
VERSION:2.0
PRODID:-//Plone.org//NONSGML plone.app.event//EN
X-WR-TIMEZONE:Europe/Berlin
BEGIN:VEVENT
SUMMARY:Climate\, Energy and Society
DTSTART;TZID=GMT+0;VALUE=DATE-TIME:20090101T090000
DTEND;TZID=GMT+0;VALUE=DATE-TIME:20090101T150000
DTSTAMP;VALUE=DATE-TIME:20260424T170248Z
UID:cdf8c839022a4c9bb0335ded37c89e0c@www.isprambiente.gov.it
CREATED;VALUE=DATE-TIME:20120925T154137Z
LAST-MODIFIED;VALUE=DATE-TIME:20150807T144233Z
LOCATION:Rome
URL:https://www.isprambiente.gov.it/en/archive/news-and-other-events/ispra
 -news/year-2009/clima-ener-soc
END:VEVENT
END:VCALENDAR
