BEGIN:VCALENDAR
VERSION:2.0
PRODID:-//Plone.org//NONSGML plone.app.event//EN
X-WR-TIMEZONE:Europe/Berlin
BEGIN:VEVENT
SUMMARY:Ecomondo
DTSTART;TZID=GMT+0;VALUE=DATE-TIME:20091028T000000
DTEND;TZID=GMT+0;VALUE=DATE-TIME:20091031T000000
DTSTAMP;VALUE=DATE-TIME:20260424T165919Z
UID:879ef572e11f42c992f76e30461226a2@www.isprambiente.gov.it
CREATED;VALUE=DATE-TIME:20120925T154130Z
LAST-MODIFIED;VALUE=DATE-TIME:20150807T144233Z
LOCATION:Rimini
URL:https://www.isprambiente.gov.it/en/archive/news-and-other-events/ispra
 -news/year-2009/ecomondo
END:VEVENT
END:VCALENDAR
