BEGIN:VCALENDAR
VERSION:2.0
PRODID:-//Plone.org//NONSGML plone.app.event//EN
X-WR-TIMEZONE:Europe/Berlin
BEGIN:VEVENT
SUMMARY:Environmental Ssustainability training in times of crisis
DTSTART;TZID=GMT+0;VALUE=DATE-TIME:20090422T000100
DTEND;TZID=GMT+0;VALUE=DATE-TIME:20090424T000500
DTSTAMP;VALUE=DATE-TIME:20260424T165826Z
UID:805fa6126b9445caa962d35172b14064@www.isprambiente.gov.it
CREATED;VALUE=DATE-TIME:20090422T020100Z
LAST-MODIFIED;VALUE=DATE-TIME:20150807T144301Z
LOCATION:Syracuse
URL:https://www.isprambiente.gov.it/en/archive/news-and-other-events/ispra
 -news/year-2009/gruppo-eos
END:VEVENT
END:VCALENDAR
