BEGIN:VCALENDAR
VERSION:2.0
PRODID:-//Plone.org//NONSGML plone.app.event//EN
X-WR-TIMEZONE:Europe/Berlin
BEGIN:VEVENT
SUMMARY:Waste Report
DTSTART;TZID=GMT+0;VALUE=DATE-TIME:20090422T000100
DTEND;TZID=GMT+0;VALUE=DATE-TIME:20090424T000500
DTSTAMP;VALUE=DATE-TIME:20260424T170155Z
UID:7443687d00fe47518b6510da05e03015@www.isprambiente.gov.it
CREATED;VALUE=DATE-TIME:20090422T020100Z
LAST-MODIFIED;VALUE=DATE-TIME:20150807T144302Z
LOCATION:Syracuse
URL:https://www.isprambiente.gov.it/en/archive/news-and-other-events/ispra
 -news/year-2009/rapporto-rif08
END:VEVENT
END:VCALENDAR
