BEGIN:VCALENDAR
VERSION:2.0
PRODID:-//Plone.org//NONSGML plone.app.event//EN
X-WR-TIMEZONE:Europe/Berlin
BEGIN:VEVENT
SUMMARY:11th Environmental Agencies Conference
DTSTART;TZID=GMT+0;VALUE=DATE-TIME:20090422T000100
DTEND;TZID=GMT+0;VALUE=DATE-TIME:20090424T000500
DTSTAMP;VALUE=DATE-TIME:20260424T170021Z
UID:b20139dbb17a4d4cadbe3ce48714df93@www.isprambiente.gov.it
CREATED;VALUE=DATE-TIME:20090422T020100Z
LAST-MODIFIED;VALUE=DATE-TIME:20121212T102538Z
LOCATION:Syracuse
URL:https://www.isprambiente.gov.it/en/archive/news-and-other-events/ispra
 -news/year-2009/spec-conferenza
END:VEVENT
END:VCALENDAR
