BEGIN:VCALENDAR
VERSION:2.0
PRODID:-//Plone.org//NONSGML plone.app.event//EN
X-WR-TIMEZONE:Europe/Berlin
BEGIN:VEVENT
SUMMARY:Earthquake in Abruzzo
DTSTART;TZID=GMT+0;VALUE=DATE-TIME:20090422T000100
DTEND;TZID=GMT+0;VALUE=DATE-TIME:20090424T000500
DTSTAMP;VALUE=DATE-TIME:20260424T165853Z
UID:45b2bfc649234931a7aa1f94ae6d1bbf@www.isprambiente.gov.it
CREATED;VALUE=DATE-TIME:20090422T020100Z
LAST-MODIFIED;VALUE=DATE-TIME:20150807T144301Z
LOCATION:Syracuse
URL:https://www.isprambiente.gov.it/en/archive/news-and-other-events/ispra
 -news/year-2009/terremoto-taskforce
END:VEVENT
END:VCALENDAR
