BEGIN:VCALENDAR
VERSION:2.0
PRODID:-//Plone.org//NONSGML plone.app.event//EN
X-WR-TIMEZONE:Europe/Berlin
BEGIN:VEVENT
SUMMARY:Strategic program "Environment and Health" - First outcomes
DTSTART;TZID=GMT+0;VALUE=DATE-TIME:20100204T000000
DTEND;TZID=GMT+0;VALUE=DATE-TIME:20100205T000000
DTSTAMP;VALUE=DATE-TIME:20260424T170108Z
UID:e82606bf12a64ea0b60a0770fd26eb64@www.isprambiente.gov.it
CREATED;VALUE=DATE-TIME:20120925T153928Z
LAST-MODIFIED;VALUE=DATE-TIME:20150807T144229Z
LOCATION:Rome
URL:https://www.isprambiente.gov.it/en/archive/news-and-other-events/ispra
 -news/year-2010/ambiente-sal
END:VEVENT
END:VCALENDAR
