BEGIN:VCALENDAR
VERSION:2.0
PRODID:-//Plone.org//NONSGML plone.app.event//EN
X-WR-TIMEZONE:Europe/Berlin
BEGIN:VEVENT
SUMMARY:Ecopolis 2010
DTSTART;TZID=GMT+0;VALUE=DATE-TIME:20100413T000000
DTEND;TZID=GMT+0;VALUE=DATE-TIME:20100414T000000
DTSTAMP;VALUE=DATE-TIME:20260424T165848Z
UID:2f6bcf72aca44fa694b1804714aa5c8c@www.isprambiente.gov.it
CREATED;VALUE=DATE-TIME:20120925T153755Z
LAST-MODIFIED;VALUE=DATE-TIME:20150807T144225Z
LOCATION:Rome
URL:https://www.isprambiente.gov.it/en/archive/news-and-other-events/ispra
 -news/year-2010/ecopolis-2010
END:VEVENT
END:VCALENDAR
