BEGIN:VCALENDAR
VERSION:2.0
PRODID:-//Plone.org//NONSGML plone.app.event//EN
X-WR-TIMEZONE:Europe/Berlin
BEGIN:VEVENT
SUMMARY:Integrated controls on the IPPC plants
DTSTART;TZID=GMT+0;VALUE=DATE-TIME:20100325T000000
DTEND;TZID=GMT+0;VALUE=DATE-TIME:20100326T000000
DTSTAMP;VALUE=DATE-TIME:20260424T170155Z
UID:f36a4247ce1145ecbb41800eb4c0c616@www.isprambiente.gov.it
CREATED;VALUE=DATE-TIME:20120925T153829Z
LAST-MODIFIED;VALUE=DATE-TIME:20150807T144226Z
LOCATION:Cagliari
URL:https://www.isprambiente.gov.it/en/archive/news-and-other-events/ispra
 -news/year-2010/ippc-sardegna
END:VEVENT
END:VCALENDAR
