BEGIN:VCALENDAR
VERSION:2.0
PRODID:-//Plone.org//NONSGML plone.app.event//EN
X-WR-TIMEZONE:Europe/Berlin
BEGIN:VEVENT
SUMMARY:Alberto Malatesta (1915-2007) Geologist and Paleontologist
DTSTART;TZID=GMT+0;VALUE=DATE-TIME:20100204T000000
DTEND;TZID=GMT+0;VALUE=DATE-TIME:20100205T000000
DTSTAMP;VALUE=DATE-TIME:20260424T170200Z
UID:c71c01f267de4753bf6e3fc1c2a1918a@www.isprambiente.gov.it
CREATED;VALUE=DATE-TIME:20120925T153927Z
LAST-MODIFIED;VALUE=DATE-TIME:20150807T144229Z
LOCATION:Rome
URL:https://www.isprambiente.gov.it/en/archive/news-and-other-events/ispra
 -news/year-2010/malatesta
END:VEVENT
END:VCALENDAR
