BEGIN:VCALENDAR
VERSION:2.0
PRODID:-//Plone.org//NONSGML plone.app.event//EN
X-WR-TIMEZONE:Europe/Berlin
BEGIN:VEVENT
SUMMARY:Debate on the NIR: knowledge\, researches\, measures\, law and pro
 tection.
DTSTART;TZID=GMT+0;VALUE=DATE-TIME:20100603T000000
DTEND;TZID=GMT+0;VALUE=DATE-TIME:20100605T000000
DTSTAMP;VALUE=DATE-TIME:20260424T165837Z
UID:43d576d69ab045b89ed05c6394228183@www.isprambiente.gov.it
CREATED;VALUE=DATE-TIME:20120925T153650Z
LAST-MODIFIED;VALUE=DATE-TIME:20150807T144222Z
LOCATION:Siracusa
URL:https://www.isprambiente.gov.it/en/archive/news-and-other-events/ispra
 -news/year-2010/punto-nir
END:VEVENT
END:VCALENDAR
