BEGIN:VCALENDAR
VERSION:2.0
PRODID:-//Plone.org//NONSGML plone.app.event//EN
X-WR-TIMEZONE:Europe/Berlin
BEGIN:VEVENT
SUMMARY:Environment Week 2010
DTSTART;TZID=GMT+0;VALUE=DATE-TIME:20100301T000000
DTEND;TZID=GMT+0;VALUE=DATE-TIME:20100304T000000
DTSTAMP;VALUE=DATE-TIME:20260424T170159Z
UID:db226d17a5bb4fdcaffdfe7f861ab6a0@www.isprambiente.gov.it
CREATED;VALUE=DATE-TIME:20120925T153853Z
LAST-MODIFIED;VALUE=DATE-TIME:20150807T144227Z
LOCATION:Milan
URL:https://www.isprambiente.gov.it/en/archive/news-and-other-events/ispra
 -news/year-2010/settimana-ambiente
END:VEVENT
END:VCALENDAR
