BEGIN:VCALENDAR
VERSION:2.0
PRODID:-//Plone.org//NONSGML plone.app.event//EN
X-WR-TIMEZONE:Europe/Berlin
BEGIN:VEVENT
SUMMARY:Marine environment: quality and strategies
DTSTART;TZID=GMT+0;VALUE=DATE-TIME:20110101T090000
DTEND;TZID=GMT+0;VALUE=DATE-TIME:20110101T150000
DTSTAMP;VALUE=DATE-TIME:20260424T165205Z
UID:7cf2572d880343e0affc4e75c2f36f5d@www.isprambiente.gov.it
CREATED;VALUE=DATE-TIME:20120925T153318Z
LAST-MODIFIED;VALUE=DATE-TIME:20150807T144216Z
LOCATION:Alberese (GR)
URL:https://www.isprambiente.gov.it/en/archive/news-and-other-events/ispra
 -news/year-2011/ambiente-marino
END:VEVENT
END:VCALENDAR
