BEGIN:VCALENDAR
VERSION:2.0
PRODID:-//Plone.org//NONSGML plone.app.event//EN
X-WR-TIMEZONE:Europe/Berlin
BEGIN:VEVENT
SUMMARY:An expert eye in the subsoil of the Po Valley
DTSTART;TZID=GMT+0;VALUE=DATE-TIME:20150423T093000
DTEND;TZID=GMT+0;VALUE=DATE-TIME:20150423T170000
DTSTAMP;VALUE=DATE-TIME:20260423T005425Z
UID:ec5db70e45ce4ed18b46b0f44c566851@www.isprambiente.gov.it
CREATED;VALUE=DATE-TIME:20150409T170558Z
LAST-MODIFIED;VALUE=DATE-TIME:20160329T165937Z
LOCATION:Milano
URL:https://www.isprambiente.gov.it/en/archive/news-and-other-events/ispra
 -news/year-2015/april/an-expert-eye-in-the-subsoil-of-the-po-valley
END:VEVENT
END:VCALENDAR
