BEGIN:VCALENDAR
VERSION:2.0
PRODID:-//Plone.org//NONSGML plone.app.event//EN
X-WR-TIMEZONE:Europe/Berlin
BEGIN:VEVENT
SUMMARY:Hanami 2015 - Blooming of sakura\, the Japanese cherry   tree
DTSTART;TZID=GMT+0;VALUE=DATE-TIME:20150409T120000
DTEND;TZID=GMT+0;VALUE=DATE-TIME:20150409T140000
DTSTAMP;VALUE=DATE-TIME:20260422T220329Z
UID:ec990d5f68b9465dbe92d916188749e3@www.isprambiente.gov.it
CREATED;VALUE=DATE-TIME:20150407T153328Z
DESCRIPTION:In the cherry blossom's shade there's no such thing as a   str
 anger  (Issa\, 1763-1828)
LAST-MODIFIED;VALUE=DATE-TIME:20151229T114518Z
LOCATION:Japanese walking - Eur Central Park Lake
URL:https://www.isprambiente.gov.it/en/archive/news-and-other-events/ispra
 -news/year-2015/april/hanami-2015-blooming-of-sakura-the-japanese-cherry-t
 ree
END:VEVENT
END:VCALENDAR
