BEGIN:VCALENDAR
VERSION:2.0
PRODID:-//Plone.org//NONSGML plone.app.event//EN
X-WR-TIMEZONE:Europe/Berlin
BEGIN:VEVENT
SUMMARY:Invasive alien plants: from prevention to management
DTSTART;TZID=GMT+0;VALUE=DATE-TIME:20150414T083000
DTEND;TZID=GMT+0;VALUE=DATE-TIME:20150414T163000
DTSTAMP;VALUE=DATE-TIME:20260422T232238Z
UID:ae09de4f320c47b4a124ef6142cb247d@www.isprambiente.gov.it
CREATED;VALUE=DATE-TIME:20150409T113144Z
LAST-MODIFIED;VALUE=DATE-TIME:20151229T114519Z
URL:https://www.isprambiente.gov.it/en/archive/news-and-other-events/ispra
 -news/year-2015/april/invasive-alien-plants-from-prevention-to-management
END:VEVENT
END:VCALENDAR
