BEGIN:VCALENDAR
VERSION:2.0
PRODID:-//Plone.org//NONSGML plone.app.event//EN
X-WR-TIMEZONE:Europe/Berlin
BEGIN:VEVENT
SUMMARY:Presentation of the new guidelines for the management of the bloom
 s of Ostreopsis ovata and cyanobacteria in bathing water
DTSTART;TZID=GMT+0;VALUE=DATE-TIME:20150420T090000
DTEND;TZID=GMT+0;VALUE=DATE-TIME:20150421T170000
DTSTAMP;VALUE=DATE-TIME:20260422T232519Z
UID:4110e7b9a9594bb78531bec1259e1de1@www.isprambiente.gov.it
CREATED;VALUE=DATE-TIME:20150326T121609Z
LAST-MODIFIED;VALUE=DATE-TIME:20160222T181951Z
LOCATION:Rome
URL:https://www.isprambiente.gov.it/en/archive/news-and-other-events/ispra
 -news/year-2015/april/presentation-of-the-new-guidelines-for-the-managemen
 t-of-the-blooms-of-ostreopsis-ovata-and-cyanobacteria-in-bathing-water
END:VEVENT
END:VCALENDAR
