BEGIN:VCALENDAR
VERSION:2.0
PRODID:-//Plone.org//NONSGML plone.app.event//EN
X-WR-TIMEZONE:Europe/Berlin
BEGIN:VEVENT
SUMMARY:Seminar of historical cartographic studies : from the Map to GIS 
DTSTART;TZID=GMT+0;VALUE=DATE-TIME:20150409T150000
DTEND;TZID=GMT+0;VALUE=DATE-TIME:20150410T170000
DTSTAMP;VALUE=DATE-TIME:20260422T232350Z
UID:4a00868dc4c84b0d856ec76f7d5190a0@www.isprambiente.gov.it
CREATED;VALUE=DATE-TIME:20150401T155150Z
LAST-MODIFIED;VALUE=DATE-TIME:20160329T170031Z
LOCATION:Rome
URL:https://www.isprambiente.gov.it/en/archive/news-and-other-events/ispra
 -news/year-2015/april/seminar-of-historical-cartographic-studies-from-the-
 map-to-gis-1
END:VEVENT
END:VCALENDAR
