BEGIN:VCALENDAR
VERSION:2.0
PRODID:-//Plone.org//NONSGML plone.app.event//EN
X-WR-TIMEZONE:Europe/Berlin
BEGIN:VEVENT
SUMMARY:Status\, prospective  and needs of Italian research in animal zoot
 ecchny in the context of climate change
DTSTART;TZID=GMT+0;VALUE=DATE-TIME:20150422T143000
DTEND;TZID=GMT+0;VALUE=DATE-TIME:20150422T170000
DTSTAMP;VALUE=DATE-TIME:20260423T005841Z
UID:f7326fb849e547ef9229ffbf17361ef0@www.isprambiente.gov.it
CREATED;VALUE=DATE-TIME:20150421T104644Z
LAST-MODIFIED;VALUE=DATE-TIME:20151229T114519Z
LOCATION:Firenze
URL:https://www.isprambiente.gov.it/en/archive/news-and-other-events/ispra
 -news/year-2015/april/status-prospective-and-needs-of-italian-research-in-
 animal-zootecchny-in-the-context-of-climate-change
END:VEVENT
END:VCALENDAR
