BEGIN:VCALENDAR
VERSION:2.0
PRODID:-//Plone.org//NONSGML plone.app.event//EN
X-WR-TIMEZONE:Europe/Berlin
BEGIN:VEVENT
SUMMARY:The climate changes cities: adaption and mitigation strategies in 
 the urban planning
DTSTART;TZID=GMT+0;VALUE=DATE-TIME:20150413T110000
DTEND;TZID=GMT+0;VALUE=DATE-TIME:20150413T130000
DTSTAMP;VALUE=DATE-TIME:20260422T232629Z
UID:202ec1fd60fb48548d2a88cdecb5586b@www.isprambiente.gov.it
CREATED;VALUE=DATE-TIME:20150330T133232Z
LAST-MODIFIED;VALUE=DATE-TIME:20151229T114518Z
LOCATION:Rome
URL:https://www.isprambiente.gov.it/en/archive/news-and-other-events/ispra
 -news/year-2015/april/the-climate-changes-cities-adaption-and-mitigation-s
 trategies-in-the-urban-planning
END:VEVENT
END:VCALENDAR
